View In:
ArcGIS JavaScript
ArcGIS Online Map Viewer
ArcGIS Earth
ArcGIS Pro
Service Description: Base Map for All GIS Viewers
Map Name: WADOR_Base_Overlay
Legend
All Layers and Tables
Layers:
-
Global (0)
-
L05 - 1:18,489,268 (269)
-
L06 - 1:9,244,649 (5)
-
L07 - 1:4,622,324 (8)
-
L08 - 1:2,311,162 (15)
-
L09 - 1:1,155,581 (25)
-
L10 - 1:577,791 (35)
-
L11 - 1:288,895 (47)
-
L12 - 1:144,448 (60)
-
L13 - 1:72,224 (75)
-
L14 - 1:36,112 (90)
-
L15 - 1:18,056 (108)
-
L16 - 1:9,028 (128)
-
L17 - 1:4,514 (151)
-
L18 - 1:2,257 (174)
-
L19 - 1:1,128 (195)
-
General-Low (218)
-
General-Med (232)
-
General-High (245)
-
Base-Service (250)
Description: Base Map for All GIS Viewers
Service Item Id: 636aec5d704a4941aee5380472d39a61
Copyright Text: Wright, David E. - Parsons, Marty
Spatial Reference:
102100
(3857)
Single Fused Map Cache: true
Tile Info:
- Height: 256
- Width: 256
- DPI: 96
-
Levels of Detail: 24
-
Level ID: 1
[ Start Tile, End Tile ]
- Resolution: 78271.5169639999
- Scale: 2.95828763795777E8
-
Level ID: 2
[ Start Tile, End Tile ]
- Resolution: 39135.7584820001
- Scale: 1.47914381897889E8
-
Level ID: 3
[ Start Tile, End Tile ]
- Resolution: 19567.8792409999
- Scale: 7.3957190948944E7
-
Level ID: 4
[ Start Tile, End Tile ]
- Resolution: 9783.93962049996
- Scale: 3.6978595474472E7
-
Level ID: 5
[ Start Tile, End Tile ]
- Resolution: 4891.96981024998
- Scale: 1.8489297737236E7
- Format: PNG
- Compression Quality: 0.0
- Origin: X: -2.0037508342787E7
Y: 2.0037508342787E7
- Spatial Reference: 102100
(3857)
Storage Info:
- Storage Format: esriMapCacheStorageModeCompactV2
- Packet Size: 128
Initial Extent:
XMin: -1.5218352981792556E7
YMin: 4982472.84563594
XMax: -1.1693688733507445E7
YMax: 7000410.392364058
Spatial Reference: 102100
Full Extent:
XMin: -1.5141304457281118E7
YMin: 4982472.84563594
XMax: -1.1770737258018883E7
YMax: 7000410.392364058
Spatial Reference: 102100
Units: esriMeters
Supported Image Format Types: PNG32,PNG24,PNG,JPG,DIB,TIFF,EMF,PS,PDF,GIF,SVG,SVGZ,BMP
Document Info:
Title: Base_Overlay
Author:
Comments: Base Map for All GIS Viewers
Subject: General Map - Without Landform background
Category:
Keywords: DOR,GIS,Base,Map,General,Overlay
AntialiasingMode: Fast
TextAntialiasingMode: Force
Supports Dynamic Layers: false
Resampling: false
MaxRecordCount: 2000
MaxImageHeight: 4096
MaxImageWidth: 4096
Supported Query Formats: JSON, geoJSON, PBF
Supports Query Data Elements: true
Min Scale: 1.8489297737236E7
Max Scale: 1128.497176
Supports Datum Transformation: true
Child Resources:
Info
Supported Operations:
Export Map
Identify
QueryLegends
QueryDomains
Find
Return Updates