View In:
ArcGIS JavaScript
ArcGIS Online Map Viewer
ArcGIS Earth
ArcGIS Pro
Service Description: Base Map for All GIS Viewers
Map Name: WADOR_Base_Map
Legend
All Layers and Tables
Layers:
-
Global (0)
-
L05 - 1:18,489,268 (5)
-
L06 - 1:9,244,649 (8)
-
L07 - 1:4,622,324 (11)
-
L08 - 1:2,311,162 (18)
-
L09 - 1:1,155,581 (28)
-
L10 - 1:577,791 (38)
-
L11 - 1:288,895 (50)
-
L12 - 1:144,448 (63)
-
L13 - 1:72,224 (78)
-
L14 - 1:36,112 (93)
-
L15 - 1:18,056 (111)
-
L16 - 1:9,028 (131)
-
L17 - 1:4,514 (152)
-
L18 - 1:2,257 (173)
-
L19 - 1:1,128 (196)
-
L20 - 1:564 (219)
-
General-Low (242)
-
General-Med (251)
-
General-High (260)
-
Base-Service (265)
Description: Base Map for All GIS Viewers
Service Item Id: d38090ef8155463991a75c7f90c16b44
Copyright Text: Wright, David E. - Parsons, Marty
Spatial Reference:
102100
(3857)
LatestVCSWkid(0)
Single Fused Map Cache: true
Tile Info:
- Height: 256.0
- Width: 256.0
- DPI: 96.0
-
Levels of Detail: 24
-
Level ID: 0
[ Start Tile, End Tile ]
- Resolution: 156543.03392800014
- Scale: 5.91657527591555E8
-
Level ID: 1
[ Start Tile, End Tile ]
- Resolution: 78271.51696399994
- Scale: 2.95828763795777E8
-
Level ID: 2
[ Start Tile, End Tile ]
- Resolution: 39135.75848200009
- Scale: 1.47914381897889E8
-
Level ID: 3
[ Start Tile, End Tile ]
- Resolution: 19567.87924099992
- Scale: 7.3957190948944E7
-
Level ID: 4
[ Start Tile, End Tile ]
- Resolution: 9783.93962049996
- Scale: 3.6978595474472E7
-
Level ID: 5
[ Start Tile, End Tile ]
- Resolution: 4891.96981024998
- Scale: 1.8489297737236E7
- Format: PNG
- Compression Quality: 0.0
- Origin: X: -2.0037508342787E7
Y: 2.0037508342787E7
- Spatial Reference: 102100
(3857)
LatestVCSWkid(0)
Storage Info:
- Storage Format: esriMapCacheStorageModeCompactV2
- Packet Size: 128
Initial Extent:
XMin: -1.5126578302847805E7
YMin: 4992217.26570644
XMax: -1.1787808907352192E7
YMax: 6990586.933193559
Spatial Reference: 102100
(0)
LatestVCSWkid(0)
Full Extent:
XMin: -1.5126578302847805E7
YMin: 4992217.265706441
XMax: -1.1787808907352192E7
YMax: 6990586.933193558
Spatial Reference: 102100
(0)
LatestVCSWkid(0)
Units: esriMeters
Supported Image Format Types: PNG32,PNG24,PNG,JPG,DIB,TIFF,EMF,PS,PDF,GIF,SVG,SVGZ,BMP
Document Info:
Title: Base_Map
Author:
Comments: Base Map for All GIS Viewers
Subject: General Map - With Landform background
Category:
Keywords: DOR,GIS,Base,Map,General
AntialiasingMode: Fast
TextAntialiasingMode: Force
Supports Dynamic Layers: false
Resampling: false
MaxRecordCount: 2000
MaxSelectionCount: 2000
MaxImageHeight: 4096
MaxImageWidth: 4096
Supported Query Formats: JSON, geoJSON, PBF
Supports Query Data Elements: true
Min Scale: 1.8489297737236E7
Max Scale: 1128.497176
Supports Datum Transformation: true
Child Resources:
Info
Supported Operations:
Export Map
Identify
QueryLegends
QueryDomains
Find
EstimateExportTilesSize
ExportTiles
Return Updates